{"text_format":"1","workbook":"xlsx","n_sheets":4,"sheets":["교체매매","신규매수","사용방법","계산"],"not_rendered":{"charts":0,"images":4,"macros":1,"external_links":0,"defined_names":0,"comments":0,"pivot_tables":0},"unopened":[],"bounds":{"document_bytes":16777216,"sheet_cells":100000,"rows_first":2000,"rows_last":500,"rows_between":2000,"halvings":0,"cell_chars":16384,"cell_head_chars":4096},"cells_cut":0,"cells_raw":0,"read":"whole","date_system":"1900"}

{"sheet":"교체매매","index":0,"n_rows":54,"n_cols":23,"rows_kept":54,"cut":false,"hidden":false,"merged":[[5,21,5,22],[5,4,5,5],[3,11,3,12],[4,11,4,12],[0,1,0,5],[0,7,0,13],[5,1,5,2],[2,2,2,5],[3,2,3,5],[5,15,5,16],[5,18,5,19],[0,15,0,22]]}
[null,"입력 해야하는 부분",null,null,null,null,null,"매매내역",null,null,null,null,null,null,null,"매매구분 및 수량"]
[]
[null,"날짜입력"]
[null,"총투자금액(원)",null,null,null,null,null,null,null,null,null,"투자금액"]
[null,null,null,null,null,null,null,null,null,null,null,"남은현금"]
[null,"기존 보유 현황",null,null,"새 포트",null,null,null,null,null,null,null,null,null,null,"신규매수",null,null,"전량매도",null,null,"수량유지"]
[null,"종목명","보유수량",null,"종목명","현재주가",null,"종목명","현재주가","보유","매매","최종","의견","실제투자금액",null,"종목명","매매주식수",null,"종목명","매매주식수",null,"종목명","매매주식수"]
[]
[]
[]
[]
[]
[]
[]
[]
[]
[]
[]
[]
[]
[]
[]
[]
[]
[]
[]
[]
[]
[]
[]
[]
[]
[]
[null,"* 초록색 부분만 입력하시면 됩니다."]
[null,"* 퀀트 매매를 처음 하시는 분들은 [신규매수] 시트를 사용해주세요."]
[]
[null,"<진행순서>"]
[]
[null,"1. 초록색 부분을 모두 삭제합니다."]
[]
[null,"2. '초기화' 버튼을 누릅니다."]
[null,"→ '초기화'를 누르면 매매내역과 매매구분 및 수량이 초기화돼, 모두 빈칸으로 나옵니다."]
[]
[null,"3. 초록색 부분을 입력합니다."]
[null,"→ 기존 보유현황, 새 포트 입력"]
[]
[null,"4. '매매수량 계산'을 누르면 매매수량이 자동으로 계산됩니다."]
[]
[null,"5. 매매수량 확인 후, 수량에 맞춰 매매합니다."]
[]
[null,"[필독!]"]
[null,"1. 입력하는 칸 외, 다른 셀은 편집하지 마시기 바랍니다. 에러가 날 수 있습니다."]
[null,"2. 이 파일은 2018년 12월 31일까지 사용이 가능하고, 이후에는 기능이 정상적으로 작동하지 않습니다."]
[null,"   2019년에 사용 가능한 파일은 2018년 11월 이후에 퀀트클럽 홈페이지에서 다운받아주세요."]

{"sheet":"신규매수","index":1,"n_rows":54,"n_cols":8,"rows_kept":54,"cut":false,"hidden":false,"merged":[[0,4,0,7],[0,1,0,2]]}
[null,"입력 해야하는 부분",null,null,"매매내역"]
[]
[null,"날짜입력",null,null,null,null,"투자금액"]
[null,"총투자금액(원)",null,null,null,null,"남은현금"]
[]
[null,"종목명","주가",null,"종목명","현재주가","매수수량","실제투자금액"]
[]
[]
[]
[]
[]
[]
[]
[]
[]
[]
[]
[]
[]
[]
[]
[]
[]
[]
[]
[]
[]
[]
[]
[]
[]
[]
[null,"* 초록색 부분만 입력하시면 됩니다."]
[null,"* 이 시트는 처음으로 포트 종목을 매수하시는 분을 위한 시트입니다."]
[null,"* 이미 보유한 종목이 있어, 교체매매를 진행하시는 분은 [결과]시트를 이용해주세요."]
[]
[null,"<진행순서>"]
[]
[null,"1. 초록색 부분을 모두 삭제합니다."]
[]
[null,"2. '초기화' 버튼을 누릅니다."]
[null,"→ '초기화'를 누르면 매매내역이 모두 삭제됩니다."]
[]
[null,"3. 초록색 부분을 입력합니다."]
[null,"→ 매수할 종목의 종목명, 현재주가를 입력하시면 됩니다."]
[]
[null,"4. '매매수량 계산'을 누르면 매수수량이 자동으로 계산됩니다."]
[]
[null,"5. 매수수량 확인 후, 수량에 맞춰 매매합니다."]
[]
[null,"[필독!]"]
[null,"1. 입력하는 칸 외, 다른 셀은 편집하지 마시기 바랍니다. 에러가 날 수 있습니다."]
[null,"2. 이 파일은 2018년 12월 31일까지 사용이 가능하고, 이후에는 기능이 정상적으로 작동하지 않습니다."]
[null,"   2019년에 사용 가능한 파일은 2018년 11월 이후에 퀀트클럽 홈페이지에서 다운받아주세요."]

{"sheet":"사용방법","index":2,"n_rows":7,"n_cols":2,"rows_kept":7,"cut":false,"hidden":false,"merged":[]}
[]
[null,"<사용방법>"]
[]
[null,"1. 퀀트클럽 첫 매수 하시는 분들은 '신규매수'탭을, 이미 보유한 종목이 있으신 분들은 '교체매매'탭을 사용해주세요."]
[null,"2. '신규매수'탭, '교체매매'탭에 각각의 사용방법이 기재되어있습니다. 참고해주세요. "]
[null,"3. 이 파일은 2018년 12월 31일까지 사용이 가능하고, 이후에는 기능이 정상적으로 작동하지 않습니다."]
[null,"   2019년에 사용 가능한 파일은 2018년 12월 이후에 퀀트클럽 홈페이지에서 다운받아주세요."]

{"sheet":"계산","index":3,"n_rows":58,"n_cols":29,"rows_kept":58,"cut":false,"hidden":true,"merged":[[5,7,5,13],[5,16,5,18],[0,1,0,5],[2,7,2,12],[3,7,3,12]]}
[]
[]
[null,"날짜입력",{"$f":"교체매매!C3","v":"00:00:00"},null,null,null,null,"투자금액",null,null,null,null,null,{"$f":"SUM(N9:N58)","v":0},null,null,null,null,null,null,null,null,null,"신규매수 계산"]
[null,"총투자금액",{"$f":"교체매매!C4","v":0},null,null,null,null,"남은현금",null,null,null,null,null,{"$f":"C4-N3","v":0}]
[]
[null,null,null,null,"새포트개수",{"$f":"25-COUNTBLANK(E9:E33)","v":0},null,"매매내역",null,null,null,null,null,null,null,null,"데이터"]
[null,"기존 보유 현황",null,null,"새 포트",null,null,null,null,null,null,null,null,null,null,null,null,null,null,null,null,null,null,null,null,null,"종목수",{"$f":"25-COUNTBLANK(X12:X36)","v":0}]
[null,"종목명","매수/보유수량",null,"종목명","현재주가",null,"종목명","현재주가","보유","매매","최종","의견","실제투자금액",null,null,"자료1","자료2","목표투자금액",null,null,null,null,"날짜입력",null,null,"투자금액",{"$f":"SUM(AC12:AC36)","v":0}]
[null,{"$f":"IF(교체매매!B8=\"\",\"\",교체매매!B8)","v":""},{"$f":"IF(교체매매!C8=\"\",\"\",교체매매!C8)","v":""},null,{"$f":"IF(교체매매!E8=\"\",\"\",교체매매!E8)","v":""},{"$f":"IF(교체매매!F8=\"\",\"\",교체매매!F8)","v":""},null,null,{"$f":"IF(H9=\"\",\"\",IFERROR(VLOOKUP(H9,$E$9:$F$33,2,FALSE),\"-\"))","v":""},{"$f":"IF(H9=\"\",\"\",IFERROR(VLOOKUP(H9,$B$9:$C$33,2,FALSE),0))","v":""},{"$f":"IF(H9=\"\",\"\",IF(I9=\"-\",-J9,IF(M9=\"수량유지\",0,Q9)))","v":""},{"$f":"IF(H9=\"\",\"\",J9+K9)","v":""},{"$f":"IF(H9=\"\",\"\",IF(COUNTIF($E$9:$E$33,H9)=0,\"전량매도\",IF(COUNTIF($B$9:$B$33,H9)=1,\"수량유지\",\"신규매수\")))","v":""},{"$f":"IFERROR(L9*I9,\"\")","v":""},null,null,{"$f":"IFERROR(R9-J9,\"\")","v":""},{"$f":"IFERROR(ROUND(S9/I9,0),\"\")","v":""},null,null,null,null,null,"총투자금액(원)",null,null,"남은현금",{"$f":"Y9-AB8","v":0}]
[null,{"$f":"IF(교체매매!B9=\"\",\"\",교체매매!B9)","v":""},{"$f":"IF(교체매매!C9=\"\",\"\",교체매매!C9)","v":""},null,{"$f":"IF(교체매매!E9=\"\",\"\",교체매매!E9)","v":""},{"$f":"IF(교체매매!F9=\"\",\"\",교체매매!F9)","v":""},null,null,"","",{"$f":"IF(H10=\"\",\"\",IF(I10=\"-\",-J10,IF(M10=\"수량유지\",0,Q10)))","v":""},"",{"$f":"IF(H10=\"\",\"\",IF(COUNTIF($E$9:$E$33,H10)=0,\"전량매도\",IF(COUNTIF($B$9:$B$33,H10)=1,\"수량유지\",\"신규매수\")))","v":""},"",null,null,{"$f":"IFERROR(R10-J10,\"\")","v":""},{"$f":"IFERROR(ROUND(S10/I10,0),\"\")","v":""}]
[null,{"$f":"IF(교체매매!B10=\"\",\"\",교체매매!B10)","v":""},{"$f":"IF(교체매매!C10=\"\",\"\",교체매매!C10)","v":""},null,{"$f":"IF(교체매매!E10=\"\",\"\",교체매매!E10)","v":""},{"$f":"IF(교체매매!F10=\"\",\"\",교체매매!F10)","v":""},null,null,"","",{"$f":"IF(H11=\"\",\"\",IF(I11=\"-\",-J11,IF(M11=\"수량유지\",0,Q11)))","v":""},"","","",null,null,"","",null,null,null,null,null,"종목명","현재주가",null,"매수수량","목표투자금액","실제투자금액"]
[null,{"$f":"IF(교체매매!B11=\"\",\"\",교체매매!B11)","v":""},{"$f":"IF(교체매매!C11=\"\",\"\",교체매매!C11)","v":""},null,{"$f":"IF(교체매매!E11=\"\",\"\",교체매매!E11)","v":""},{"$f":"IF(교체매매!F11=\"\",\"\",교체매매!F11)","v":""},null,null,"","","","","","",null,null,"","",null,null,null,null,null,null,null,null,{"$f":"IFERROR(ROUND(AB12/Y12,0),\"\")","v":""},null,{"$f":"IFERROR(Y12*AA12,\"\")","v":""}]
[null,{"$f":"IF(교체매매!B12=\"\",\"\",교체매매!B12)","v":""},{"$f":"IF(교체매매!C12=\"\",\"\",교체매매!C12)","v":""},null,{"$f":"IF(교체매매!E12=\"\",\"\",교체매매!E12)","v":""},{"$f":"IF(교체매매!F12=\"\",\"\",교체매매!F12)","v":""},null,null,"","",{"$f":"IF(H13=\"\",\"\",IF(I13=\"-\",-J13,IF(M13=\"수량유지\",0,Q13)))","v":""},"","","",null,null,"","",null,null,null,null,null,null,null,null,{"$f":"IFERROR(ROUND(AB13/Y13,0),\"\")","v":""},null,{"$f":"IFERROR(Y13*AA13,\"\")","v":""}]
[null,{"$f":"IF(교체매매!B13=\"\",\"\",교체매매!B13)","v":""},{"$f":"IF(교체매매!C13=\"\",\"\",교체매매!C13)","v":""},null,{"$f":"IF(교체매매!E13=\"\",\"\",교체매매!E13)","v":""},{"$f":"IF(교체매매!F13=\"\",\"\",교체매매!F13)","v":""},null,null,"","","","","",{"$f":"IFERROR(L14*I14,\"\")","v":""},null,null,"","",null,null,null,null,null,null,null,null,"",null,""]
[null,{"$f":"IF(교체매매!B14=\"\",\"\",교체매매!B14)","v":""},{"$f":"IF(교체매매!C14=\"\",\"\",교체매매!C14)","v":""},null,{"$f":"IF(교체매매!E14=\"\",\"\",교체매매!E14)","v":""},{"$f":"IF(교체매매!F14=\"\",\"\",교체매매!F14)","v":""},null,null,"","","","","","",null,null,"","",null,null,null,null,null,null,null,null,"",null,""]
[null,{"$f":"IF(교체매매!B15=\"\",\"\",교체매매!B15)","v":""},{"$f":"IF(교체매매!C15=\"\",\"\",교체매매!C15)","v":""},null,{"$f":"IF(교체매매!E15=\"\",\"\",교체매매!E15)","v":""},{"$f":"IF(교체매매!F15=\"\",\"\",교체매매!F15)","v":""},null,null,"","","","","","",null,null,"","",null,null,null,null,null,null,null,null,"",null,""]
[null,{"$f":"IF(교체매매!B16=\"\",\"\",교체매매!B16)","v":""},{"$f":"IF(교체매매!C16=\"\",\"\",교체매매!C16)","v":""},null,{"$f":"IF(교체매매!E16=\"\",\"\",교체매매!E16)","v":""},{"$f":"IF(교체매매!F16=\"\",\"\",교체매매!F16)","v":""},null,null,"","","","","","",null,null,"","",null,null,null,null,null,null,null,null,{"$f":"IFERROR(ROUND(AB17/Y17,0),\"\")","v":""},null,""]
[null,{"$f":"IF(교체매매!B17=\"\",\"\",교체매매!B17)","v":""},{"$f":"IF(교체매매!C17=\"\",\"\",교체매매!C17)","v":""},null,{"$f":"IF(교체매매!E17=\"\",\"\",교체매매!E17)","v":""},{"$f":"IF(교체매매!F17=\"\",\"\",교체매매!F17)","v":""},null,null,"","","","","","",null,null,"","",null,null,null,null,null,null,null,null,{"$f":"IFERROR(ROUND(AB18/Y18,0),\"\")","v":""},null,""]
[null,{"$f":"IF(교체매매!B18=\"\",\"\",교체매매!B18)","v":""},{"$f":"IF(교체매매!C18=\"\",\"\",교체매매!C18)","v":""},null,{"$f":"IF(교체매매!E18=\"\",\"\",교체매매!E18)","v":""},{"$f":"IF(교체매매!F18=\"\",\"\",교체매매!F18)","v":""},null,null,"","","","","","",null,null,"","",null,null,null,null,null,null,null,null,{"$f":"IFERROR(ROUND(AB19/Y19,0),\"\")","v":""},null,""]
[null,{"$f":"IF(교체매매!B19=\"\",\"\",교체매매!B19)","v":""},{"$f":"IF(교체매매!C19=\"\",\"\",교체매매!C19)","v":""},null,{"$f":"IF(교체매매!E19=\"\",\"\",교체매매!E19)","v":""},{"$f":"IF(교체매매!F19=\"\",\"\",교체매매!F19)","v":""},null,null,"","","","","","",null,null,"","",null,null,null,null,null,null,null,null,{"$f":"IFERROR(ROUND(AB20/Y20,0),\"\")","v":""},null,""]
[null,{"$f":"IF(교체매매!B20=\"\",\"\",교체매매!B20)","v":""},{"$f":"IF(교체매매!C20=\"\",\"\",교체매매!C20)","v":""},null,{"$f":"IF(교체매매!E20=\"\",\"\",교체매매!E20)","v":""},{"$f":"IF(교체매매!F20=\"\",\"\",교체매매!F20)","v":""},null,null,"","","","","","",null,null,"","",null,null,null,null,null,null,null,null,{"$f":"IFERROR(ROUND(AB21/Y21,0),\"\")","v":""},null,""]
[null,{"$f":"IF(교체매매!B21=\"\",\"\",교체매매!B21)","v":""},{"$f":"IF(교체매매!C21=\"\",\"\",교체매매!C21)","v":""},null,{"$f":"IF(교체매매!E21=\"\",\"\",교체매매!E21)","v":""},{"$f":"IF(교체매매!F21=\"\",\"\",교체매매!F21)","v":""},null,null,"","","","","","",null,null,"","",null,null,null,null,null,null,null,null,"",null,""]
[null,{"$f":"IF(교체매매!B22=\"\",\"\",교체매매!B22)","v":""},{"$f":"IF(교체매매!C22=\"\",\"\",교체매매!C22)","v":""},null,{"$f":"IF(교체매매!E22=\"\",\"\",교체매매!E22)","v":""},{"$f":"IF(교체매매!F22=\"\",\"\",교체매매!F22)","v":""},null,null,"","","","","","",null,null,"","",null,null,null,null,null,null,null,null,"",null,""]
[null,{"$f":"IF(교체매매!B23=\"\",\"\",교체매매!B23)","v":""},{"$f":"IF(교체매매!C23=\"\",\"\",교체매매!C23)","v":""},null,{"$f":"IF(교체매매!E23=\"\",\"\",교체매매!E23)","v":""},{"$f":"IF(교체매매!F23=\"\",\"\",교체매매!F23)","v":""},null,null,"","","","","","",null,null,"","",null,null,null,null,null,null,null,null,"",null,""]
[null,{"$f":"IF(교체매매!B24=\"\",\"\",교체매매!B24)","v":""},{"$f":"IF(교체매매!C24=\"\",\"\",교체매매!C24)","v":""},null,{"$f":"IF(교체매매!E24=\"\",\"\",교체매매!E24)","v":""},{"$f":"IF(교체매매!F24=\"\",\"\",교체매매!F24)","v":""},null,null,"","","","","","",null,null,"","",null,null,null,null,null,null,null,null,"",null,""]
[null,{"$f":"IF(교체매매!B25=\"\",\"\",교체매매!B25)","v":""},{"$f":"IF(교체매매!C25=\"\",\"\",교체매매!C25)","v":""},null,{"$f":"IF(교체매매!E25=\"\",\"\",교체매매!E25)","v":""},{"$f":"IF(교체매매!F25=\"\",\"\",교체매매!F25)","v":""},null,null,"","","","","","",null,null,"","",null,null,null,null,null,null,null,null,"",null,""]
[null,{"$f":"IF(교체매매!B26=\"\",\"\",교체매매!B26)","v":""},{"$f":"IF(교체매매!C26=\"\",\"\",교체매매!C26)","v":""},null,{"$f":"IF(교체매매!E26=\"\",\"\",교체매매!E26)","v":""},{"$f":"IF(교체매매!F26=\"\",\"\",교체매매!F26)","v":""},null,null,"","","","","","",null,null,"","",null,null,null,null,null,null,null,null,"",null,""]
[null,{"$f":"IF(교체매매!B27=\"\",\"\",교체매매!B27)","v":""},{"$f":"IF(교체매매!C27=\"\",\"\",교체매매!C27)","v":""},null,{"$f":"IF(교체매매!E27=\"\",\"\",교체매매!E27)","v":""},{"$f":"IF(교체매매!F27=\"\",\"\",교체매매!F27)","v":""},null,null,"","","","","","",null,null,"","",null,null,null,null,null,null,null,null,"",null,""]
[null,{"$f":"IF(교체매매!B28=\"\",\"\",교체매매!B28)","v":""},{"$f":"IF(교체매매!C28=\"\",\"\",교체매매!C28)","v":""},null,{"$f":"IF(교체매매!E28=\"\",\"\",교체매매!E28)","v":""},{"$f":"IF(교체매매!F28=\"\",\"\",교체매매!F28)","v":""},null,null,{"$f":"IF(H29=\"\",\"\",IFERROR(VLOOKUP(H29,$E$9:$F$33,2,FALSE),\"-\"))","v":""},{"$f":"IF(H29=\"\",\"\",IFERROR(VLOOKUP(H29,$B$9:$C$33,2,FALSE),0))","v":""},{"$f":"IF(H29=\"\",\"\",IF(I29=\"-\",-J29,IF(M29=\"수량유지\",0,Q29)))","v":""},{"$f":"IF(H29=\"\",\"\",J29+K29)","v":""},"",{"$f":"IFERROR(L29*I29,\"\")","v":""},null,null,{"$f":"IFERROR(R29-J29,\"\")","v":""},{"$f":"IFERROR(ROUND(S29/I29,0),\"\")","v":""},null,null,null,null,null,null,null,null,"",null,""]
[null,{"$f":"IF(교체매매!B29=\"\",\"\",교체매매!B29)","v":""},{"$f":"IF(교체매매!C29=\"\",\"\",교체매매!C29)","v":""},null,{"$f":"IF(교체매매!E29=\"\",\"\",교체매매!E29)","v":""},{"$f":"IF(교체매매!F29=\"\",\"\",교체매매!F29)","v":""},null,null,{"$f":"IF(H30=\"\",\"\",IFERROR(VLOOKUP(H30,$E$9:$F$33,2,FALSE),\"-\"))","v":""},{"$f":"IF(H30=\"\",\"\",IFERROR(VLOOKUP(H30,$B$9:$C$33,2,FALSE),0))","v":""},{"$f":"IF(H30=\"\",\"\",IF(I30=\"-\",-J30,IF(M30=\"수량유지\",0,Q30)))","v":""},{"$f":"IF(H30=\"\",\"\",J30+K30)","v":""},"",{"$f":"IFERROR(L30*I30,\"\")","v":""},null,null,"","",null,null,null,null,null,null,null,null,"",null,""]
[null,{"$f":"IF(교체매매!B30=\"\",\"\",교체매매!B30)","v":""},{"$f":"IF(교체매매!C30=\"\",\"\",교체매매!C30)","v":""},null,{"$f":"IF(교체매매!E30=\"\",\"\",교체매매!E30)","v":""},{"$f":"IF(교체매매!F30=\"\",\"\",교체매매!F30)","v":""},null,null,"","","","","","",null,null,"","",null,null,null,null,null,null,null,null,"",null,""]
[null,{"$f":"IF(교체매매!B31=\"\",\"\",교체매매!B31)","v":""},{"$f":"IF(교체매매!C31=\"\",\"\",교체매매!C31)","v":""},null,{"$f":"IF(교체매매!E31=\"\",\"\",교체매매!E31)","v":""},{"$f":"IF(교체매매!F31=\"\",\"\",교체매매!F31)","v":""},null,null,"","","","","","",null,null,"","",null,null,null,null,null,null,null,null,"",null,""]
[null,{"$f":"IF(교체매매!B32=\"\",\"\",교체매매!B32)","v":""},{"$f":"IF(교체매매!C32=\"\",\"\",교체매매!C32)","v":""},null,{"$f":"IF(교체매매!E32=\"\",\"\",교체매매!E32)","v":""},{"$f":"IF(교체매매!F32=\"\",\"\",교체매매!F32)","v":""},null,null,"","","","","","",null,null,"","",null,null,null,null,null,null,null,null,"",null,""]
[null,null,null,null,null,null,null,null,"","","","","","",null,null,"","",null,null,null,null,null,null,null,null,"",null,""]
[null,null,null,null,null,null,null,null,"","","","","","",null,null,"","",null,null,null,null,null,null,null,null,"",null,""]
[null,null,null,null,null,null,null,null,"","","","","","",null,null,"","",null,null,null,null,null,null,null,null,"",null,""]
[null,null,null,null,null,null,null,null,"","","","","","",null,null,"",""]
[null,null,null,null,null,null,null,null,"","","","","","",null,null,"",""]
[null,null,null,null,null,null,null,null,"","","","","","",null,null,"",""]
[null,null,null,null,null,null,null,null,"","","","","","",null,null,"",""]
[null,null,null,null,null,null,null,null,"","","","","","",null,null,"",""]
[null,null,null,null,null,null,null,null,"","","","","","",null,null,"",""]
[null,null,null,null,null,null,null,null,"","","","","","",null,null,"",""]
[null,null,null,null,null,null,null,null,"","","","","","",null,null,"",""]
[null,null,null,null,null,null,null,null,"","","","","","",null,null,"",""]
[null,null,null,null,null,null,null,null,"","","","","","",null,null,"",""]
[null,null,null,null,null,null,null,null,"","","","","","",null,null,"",""]
[null,null,null,null,null,null,null,null,"","","","","","",null,null,"",""]
[null,null,null,null,null,null,null,null,"","","","","","",null,null,"",""]
[null,null,null,null,null,null,null,null,"","","","","","",null,null,"",""]
[null,null,null,null,null,null,null,null,"","","","","","",null,null,"",""]
[null,null,null,null,null,null,null,null,"","","","","","",null,null,"",""]
[null,null,null,null,null,null,null,null,"","","","","","",null,null,"",""]
[null,null,null,null,null,null,null,null,"","","","","","",null,null,"",""]
[null,null,null,null,null,null,null,null,"","","","","","",null,null,"",""]
[null,null,null,null,null,null,null,null,"","","","","","",null,null,"",""]
[null,null,null,null,null,null,null,null,"","","","","","",null,null,"",""]
[null,null,null,null,null,null,null,null,"","","","","","",null,null,"",""]